BEGIN:VCALENDAR
VERSION:2.0
PRODID:-//Digboi College - ECPv6.10.1.1//NONSGML v1.0//EN
CALSCALE:GREGORIAN
METHOD:PUBLISH
X-WR-CALNAME:Digboi College
X-ORIGINAL-URL:https://www.digboicollege.edu.in
X-WR-CALDESC:Events for Digboi College
REFRESH-INTERVAL;VALUE=DURATION:PT1H
X-Robots-Tag:noindex
X-PUBLISHED-TTL:PT1H
BEGIN:VTIMEZONE
TZID:Asia/Kolkata
BEGIN:STANDARD
TZOFFSETFROM:+0530
TZOFFSETTO:+0530
TZNAME:IST
DTSTART:20240101T000000
END:STANDARD
TZID:UTC
BEGIN:STANDARD
TZOFFSETFROM:+0000
TZOFFSETTO:+0000
TZNAME:UTC
DTSTART:20240101T000000
END:STANDARD
END:VTIMEZONE
BEGIN:VEVENT
DTSTART;TZID=Asia/Kolkata:20240202T090000
DTEND;TZID=Asia/Kolkata:20240208T120000
DTSTAMP:20260422T125113
CREATED:20240212T104653Z
LAST-MODIFIED:20240225T182103Z
UID:17673-1706864400-1707393600@www.digboicollege.edu.in
SUMMARY:Mega Career Counseling Programme & Career Fair
DESCRIPTION:2nd February 2024:  \nThe Govt. of Assam organised a Mega Career Counseling Programme & Career Fair for the students of Assam enrolled in various colleges and higher secondary schools on 2nd February 2024. More than 200 higher educational institutions participated in the programme in online mode. Around 50 selected students of various departments of Digboi College participated in the programme. The IQAC\, Digboi Collage instructed the departments to encourage students to participate in the programme. The college has a seminar hall equipped with state of the art facilities for such blended mode pedagogy. The honorable Secretary of the State\, Education Department graced the occasion with his welcome speech. Dr. Dip Saikia\, Principal; Dr. Jayanta Handique\, Adviser IQAC; Dr. Pabitra Bharali\, Co-ordinator IQAC and Sanat Kumar Gogoi\, Asst. Prof.\, Dept. of Physics were also present during the session. The programme was much informative and instrumental to the students in choosing their career wisely. The students are eager to attend such programmes and thankful to the Govt. of Assam for organising a career counselling programme. Further\, the students requested the co-ordinator IQAC for organising similar prorammes in the college future. \n  \nজয়তু ডিগবৈ মহাবিদ্যালয়\, জয় আই অসম\, জয় হিন্দ |
URL:https://www.digboicollege.edu.in/event/mega-career-counseling-programme-career-fair/
LOCATION:Seminar Hall\, Digboi College
CATEGORIES:CampusEvent,IAQC
ATTACH;FMTTYPE=image/jpeg:https://www.digboicollege.edu.in/wp-content/uploads/2024/02/career1-scaled.jpeg
END:VEVENT
BEGIN:VEVENT
DTSTART;TZID=Asia/Kolkata:20240215T103000
DTEND;TZID=Asia/Kolkata:20240215T123000
DTSTAMP:20260422T125113
CREATED:20240219T070202Z
LAST-MODIFIED:20240225T181951Z
UID:17687-1707993000-1708000200@www.digboicollege.edu.in
SUMMARY:Workshop on Tax Deducted at Source (TDS) Compliances
DESCRIPTION:15th February 2024:  On February 15th\, 2024\, an insightful workshop on Tax Deducted at Source Compliances\, aimed at enhancing awareness among employees from colleges under Margherita Sub-Division\, was conducted at Seminar Hall of Digboi College\, Digboi. Hosted by the Income Tax Officer (TDS)\, Tinsukia\, in collaboration with the Internal Quality Assurance Cell (IQAC) of Digboi College\, the event commenced with a warm welcome address from Dr. Dip Saikia\, Principal of Digboi College. The objective of the gathering was eloquently outlined by Amitabh Shekhar Gupta\, Inspector\, TDS\, Tinsukia. Notable figures present in the workshop included Supratim Purkayastha\, Income Tax Officer\, TDS\, Tinsukia; Biswajit Mazumdar\, Income Tax Officer\, Digboi; Ratan Dey\, Income Tax Officer\, Sivsagar; and Amitabh Shekhar Gupta\, Inspector\, TDS\, TSK\, accompanied by two assistant officers from the Office of the Income Tax Officer\, Tinsukia. A presentation\, conducted by Supratim Purkayastha\, meticulously elucidated various aspects of income tax\, encompassing provisions\, advantages\, disadvantages\, and the disparities between the Old Regime and the New Regime of Income Tax payers via a comprehensive Power Point presentation. Among the attendees were Dr. Atonu Kakati\, Principal of Margherita College\, accompanied by one office staff member along with two teachers from Ledo College and five faculty members and eight office staff of Digboi College. As a gesture of thanks\, the Income Tax Office provided attendees with a valuable kit comprising informative booklets\, enriching the session further. The program concluded with all attendees joining together to sing the National Anthem of India. \n  \nজয়তু ডিগবৈ মহাবিদ্যালয়\, জয় আই অসম\, জয় হিন্দ |
URL:https://www.digboicollege.edu.in/event/workshop-on-tax-deducted-at-source-compliances/
LOCATION:Seminar Hall\, Digboi College
CATEGORIES:CampusEvent,IAQC
ATTACH;FMTTYPE=image/jpeg:https://www.digboicollege.edu.in/wp-content/uploads/2024/02/WhatsApp-Image-2024-02-19-at-11.20.13-AM-scaled.jpeg
END:VEVENT
BEGIN:VEVENT
DTSTART;TZID=Asia/Kolkata:20240221T100000
DTEND;TZID=Asia/Kolkata:20240221T130000
DTSTAMP:20260422T125113
CREATED:20240223T070331Z
LAST-MODIFIED:20240223T070331Z
UID:17702-1708509600-1708520400@www.digboicollege.edu.in
SUMMARY:Celebration of International Mother Language Day
DESCRIPTION:21st February 2024: On February 21\, 2024\, Digboi College celebrated International Mother Language Day\, organized by the Department of Assamese in collaboration with IQAC\, Digboi College\, at the Conference Hall with great enthusiasm. Welcoming all the attendees\, The Principal of Digboi College set a tone of warmth and inclusivity for the event. The celebration of IMLD contained two objectives. Firstly\, a felicitation programme for Judhabir Rana\, recipient of Sahitya Akademi Award 2023 in Nepali Language for his Essays Book entitled “Nepali Loksahitya Ra Loksanskritiko Parichaya” and alumnus of Digboi College (1965-67 batch). Secondly\, a Popular Talk by Dr. Chitrajit Saikia\, a writer\, critic\, public speaker and Asst Professor in Assamese of Duliajan College. Welcoming all attendees\, the Principal of Digboi College set a tone of warmth and inclusivity for the event. Juddhaveer Rana\, who was felicitated by Principal Dr. Dip Saikia with Gamusa\, Xorai\, Citation Plague\, Packet of Books on behalf of Digboi College Fraternity. Dr. Chitrajit Saikia\, Associate Professor of Duliajan College\, Duliajan\, delivered an insightful lecture\, highlighting the profound significance of embracing one’s mother tongue\, which resonated deeply with the audience. The presence of distinguished guests Mr. Hitendra Nath Sarma\, President of the Governing Body\, and Dr. Pabitra Bharali\, IQAC Coordinator\, Digboi College\, added prestige to the event. With a gathering of 100 students\, the occasion underscored the college’s steadfast commitment to the preservation and promotion of linguistic and cultural heritage on this auspicious day. \n \n  \n  \nজয়তু ডিগবৈ মহাবিদ্যালয়\, জয় আই অসম\, জয় হিন্দ |
URL:https://www.digboicollege.edu.in/event/celebration-of-international-mother-language-day/
LOCATION:Conference Hall\, Digboi College\, Digboi College\, Digboi\, Assam\, 786171\, India
CATEGORIES:CampusEvent,IAQC
ATTACH;FMTTYPE=image/png:https://www.digboicollege.edu.in/wp-content/uploads/2024/02/ASSAMESE.png
END:VEVENT
BEGIN:VEVENT
DTSTART;TZID=Asia/Kolkata:20240223T120000
DTEND;TZID=Asia/Kolkata:20240223T150000
DTSTAMP:20260422T125113
CREATED:20240302T043204Z
LAST-MODIFIED:20240302T043204Z
UID:17898-1708689600-1708700400@www.digboicollege.edu.in
SUMMARY:Felicitation & Interaction Programme: APSC Success Story
DESCRIPTION:23rd February 2024: \nA program of Felicitation and Interaction was organized by the Digboi College Career Counseling and Placement Cell under IQAC Quality initiatives on 23-02-2024. The program consisted of two parts viz. Felicition of alumni qualifying the APSC CCE 2022 examination and interaction of alumni viz. Ms. Jyoti Rani Nath\, Mr. Tilok Dhungana\, Mr. Suraj Kumar Gupta and Ms. Pallavi Saikia with the final semester students. \nThe program started with the assumption of chair by the Principal Dr. Dip Saikia\, Vice Principal Dr. Arun Chandra Dutta\, the IQAC Co ordinator Dr. Pabitra Bharali\, alumni Suraj Gupta and Pallavi Saikia. \n \nPrincipal Dr. Dip Saikia in his address congratulated the alumni and said that he was looking forward to many such successful candidates from amongst the students in the coming years. \nBoth the alumni were felicitated by Phulam Gamosas and an address of felicitation each by the principal. Dr. Pabitra Bharali read out the address of felicitations before offering. The two alumni shared their journey to success in a lucid manner. \nThe felicitation was followed by a highly effective interaction session of the alumni with the 6th semester students. Some relevant questions and observations were addressed by some of the faculty members. The program ended by vote of thanks offered by the IQAC coordinator. About 110 students participated in the program. \n   \nজয়তু ডিগবৈ মহাবিদ্যালয়\, জয় আই অসম\, জয় হিন্দ |
URL:https://www.digboicollege.edu.in/event/felicitation-interaction-programme-apsc-success-story/
LOCATION:Conference Hall\, Digboi College\, Digboi College\, Digboi\, Assam\, 786171\, India
CATEGORIES:CampusEvent,IAQC
ATTACH;FMTTYPE=image/jpeg:https://www.digboicollege.edu.in/wp-content/uploads/2024/03/WhatsApp-Image-2024-03-02-at-9.50.47-AM-scaled.jpeg
END:VEVENT
BEGIN:VEVENT
DTSTART;VALUE=DATE:20240227
DTEND;VALUE=DATE:20240228
DTSTAMP:20260422T125113
CREATED:20240229T193611Z
LAST-MODIFIED:20240329T193819Z
UID:18050-1708992000-1709078399@www.digboicollege.edu.in
SUMMARY:EDUCARE: Vol.-5 Newsletter of Department of Education
DESCRIPTION:EDUCARE- Vol. 5: A Newsletter of the Department of Education\, Digboi College.\nFifth Edition: February 2024 \n\nClick Here to View
URL:https://www.digboicollege.edu.in/event/educare-newsletter-5/
LOCATION:Digboi College\, Digboi College\, Digboi\, Assam\, 786171\, India
CATEGORIES:Publications
END:VEVENT
BEGIN:VEVENT
DTSTART;TZID=Asia/Kolkata:20240228T110000
DTEND;TZID=Asia/Kolkata:20240228T163000
DTSTAMP:20260422T125113
CREATED:20240328T084205Z
LAST-MODIFIED:20240329T050654Z
UID:17964-1709118000-1709137800@www.digboicollege.edu.in
SUMMARY:Celebration of National Science Day 2024
DESCRIPTION:28th February 2024: \nOn 28th Feb\, 2024\, all the Science Departments\, Digboi College\, in collaboration with IQAC\, Digboi College celebrated National Science Day. The distinguished guest invited for the event were Dr. Deepa Sarma Borthakur\, Principal (i/c)\, Digboi College\, Dr. Pabitra Bharali\, IQAC Coordinator\, Digboi College\, Dr. Jayanta Handique\, Head\, Dept. of Electronics\, Dr. Gauri Buragohain\, Head\, Dept. of English\, Dr. Mrinal Kumar Gogoi\, Dept. of Assamese. Students and Teachers from various department attended the event. About 150 students participated in the programme. \n \nThe program started at 11:00 A.M.\, hosted by Ms. Anindita Mahanta\, Assistant Professor\, Dept. of Mathematics commenced by welcoming the dignitaries on the dais followed by lighting dias as a symbol of tribute to Sir C.V Raman. Dr. Deepa Sarma Borthakur\, Principal (i/c) inaugurated the program formally with an inspiring short speech. Ms. Mamita Kalita\, Assistant Professor\, Dept. of Botany delivered a keynote speech for the event highlighting the theme for National Science Day\, 2024\, ‘Indigenous Technologies for Viksit Bharat’. \n \nFollowing the keynote speech\, the dignitaries on the dais\, Dr. Jayanta Handique\, Gauri Buragohain\, Dr. Mrinal Kumar Gogoi\, and Dr. Pabitra Bharali inspired and motivated everyone with a few words on the importance of science learning and keeping a scientific mindset while tackling day to day problems. A presentation on ‘Flipside: The Journey of a Cartoonist’ was presented by Dr. Deborshee Gogoi\, Head\, Dept. of Commerce. In the talk\, he enlightened the impact of human development on Biodiversity and Environment through effective representation using cartoons. His work has been recognized worldwide by the Wildlife Preservation Societies\, NGOs\, and Government. He has worked on the movements like “#IamDihingPatkai”. \n \nA Treasure Hunt Competition was organized amongst the students of various departments of the college with 26 participating teams comprising of 3 members each. For the first time in the history of Digboi College\, such a competition has been organized. The treasure hunt was scattered all around the college campus. Mamita Kalita\, Anindita Mahanta\, Prerona Gogoi\, and Sanat Kumar Gogoi prepared the clues for the hunt. Students needed to find and locate 5 clues in total to reach the final destination of the hunt. This competition boosted their knowledge about the college and also improved their critical thinking and problem-solving ability. Further\, hands-on programs like this enhance the student’s engagement in teaching learning curriculum. The program was centered on the life and achievements of Prof. C.V Raman.  \n  \nThe result of the Treasure Hunt is as follows: \n1st Prize: Rs. 1000.00 only in cash and Certificate:  Department of Life Sciences \nDeb Bahadur Chetry\, Trinayan Baruah and Jigyas Jyoti Moran. \n2nd Prize: Rs. 700.00 only in cash and Certificate: Department of Political Science \nRohan Regmi\, Anwesha Choudhury and Angana Bordoloi. \n3rd Prize: Rs. 500.00 only in cash and Certificate: Department of Physics \nShivam Sharma\, Geetima Kishan and Himani Gurung. \nInspirational Prize: Rs. 300.00 only in cash and Certificate: Department of Zoology \nCherich Taye\, Samrat Morang and Rajesh Rai. \n   \nA student interaction session took place after the completion of the hunt where participating and winning members of different teams interacted and shared their experiences. Almost all of the speakers emphasize on participating in such activities. Dr. Pabitra Bharali\, IQAC Coordinator\, Digboi College congratulated all the participants for their enthusiasm and eagerness to participate in the event. Further\, he acknowledged the organizers Sanat Kumar Gogoi\, Mamita Kalita\, Prerona Gogoi\, Arjun Singh Chetry\, Anindita Mahanta\, and Bhaswati Talukdar for their continuous efforts and creativity in making the event a great success and advised them to host such events in future. Lastly\, he announced that the prizes for the Treasure Hunt Competition would be distributed on the occasion of the International Pi Day Celebration on 14th March 2024. The event was concluded with a Vote of Thanks by Sanat Kumar Gogoi\, Assistant Professor\, Dept. of Physics.  \n    \nজয়তু ডিগবৈ মহাবিদ্যালয়\, জয় আই অসম\, জয় হিন্দ |
URL:https://www.digboicollege.edu.in/event/celebration-of-national-science-day-2024/
LOCATION:Conference Hall\, Digboi College\, Digboi College\, Digboi\, Assam\, 786171\, India
CATEGORIES:CampusEvent,IAQC,PhysicsEvent
ATTACH;FMTTYPE=image/jpeg:https://www.digboicollege.edu.in/wp-content/uploads/2024/03/nationalScienceDay2024.jpg
END:VEVENT
END:VCALENDAR