BEGIN:VCALENDAR
VERSION:2.0
PRODID:-//Digboi College - ECPv6.10.1.1//NONSGML v1.0//EN
CALSCALE:GREGORIAN
METHOD:PUBLISH
X-ORIGINAL-URL:https://www.digboicollege.edu.in
X-WR-CALDESC:Events for Digboi College
REFRESH-INTERVAL;VALUE=DURATION:PT1H
X-Robots-Tag:noindex
X-PUBLISHED-TTL:PT1H
BEGIN:VTIMEZONE
TZID:UTC
BEGIN:STANDARD
TZOFFSETFROM:+0000
TZOFFSETTO:+0000
TZNAME:UTC
DTSTART:20220101T000000
END:STANDARD
END:VTIMEZONE
BEGIN:VEVENT
DTSTART;TZID=UTC:20221028T130000
DTEND;TZID=UTC:20221028T133000
DTSTAMP:20260423T162827
CREATED:20221031T171022Z
LAST-MODIFIED:20221213T185207Z
UID:14890-1666962000-1666963800@www.digboicollege.edu.in
SUMMARY:Tribute to Nipon Goswami
DESCRIPTION:  \n \n28th  OCTOBER 2022: Digboi college paid tribute to Nipon Goswami on 28/10/2022. He passed away on 27/10/2022 morning at Nemcare Hospital in Guwahati. The college authority organised a condolence meeting at the college premises to mark the incident. Dr. Dip Saikia\, Principal of Digboi College\, delivered a speech on the life work and achievements of the veteran actor. \n  \nLife and Career \nA veteran film and theatre actor\, Nipon Goswami is known for his work in the Assamese film industry. After starting his career with stage\, after which he made his silver screen debut with the film Sangram\, in 1968. \nSome of his known work can be seen in films like Dr. Bezbaruah (1970)\, Shakuntala Aru Sankar Joseph Ali (1984)\, Hiya Diya Niya (2000)\, Antaheen Jatra (2004)\, Borolar Ghor (2012) And Gaane Ki Aane (2016). Apart from his work In Assamese film industry\, he has been a part of Hindi films like Debut With Do Bhai (1968)\, Jaggu (1975)\, Kaal Sandhya (1991)\, Daman (2001) and Purab Ki Awaz (2017). \nHis 2017 release includes the film Sesh Angika. Directed by Pronoy Phukan\, the movie along with Nipon Goswami stars Jayanta Bhagabati and Nayan Nilim in important roles. His 2019 release includes Seema – The Untold Story. \nHe was born on 3rd September 1942 at Kolibari in Tezpur\, Assam. His father Chandradhar Goswami was a famous actor and his mother Nirupama Goswami was a singer. He did his primary schooling from Kolibari LP School. After that he moved to Tezpur Govt. HS School. \nAfter completed his B.A. he went Calcutta for the interview in Pune Film Institute. In 1965\, he went to Pune for his acting training. Subhash Ghai\, Navin Nischol\, Shatrughan Sinha etc. were his classmates. \nHe debuted in the Assamese film industry as a child artist in the movie Piyali Phukan\, directed by Phani Sarma in 1957. As a lead actor\, Sangram was his first Assamese film and a hit movie. His next movie Dr. Bezbaruah released in 1969 brought him recognition as a star to act in many movies in coming years. He also acted in few Hindi movies as a character actor. \nHe has been actively involved in mobile theatres\, notably\, Abaahan\, Kohinoor\, Hengul\, and Shakuntala. He also appeared in few TV serials like Writu aahe writu jaai’. source: PratidinTime \nজয়তু ডিগবৈ মহাবিদ্যালয়\, জয় আই অসম\, জয় হিন্দ |\n￼
URL:https://www.digboicollege.edu.in/event/tribute-to-nipon-goswami/
LOCATION:Digboi College\, Digboi College\, Digboi\, Assam\, 786171\, India
CATEGORIES:CampusEvent
ATTACH;FMTTYPE=image/jpeg:https://www.digboicollege.edu.in/wp-content/uploads/2022/10/WhatsApp-Image-2022-10-30-at-10.40.25-AM.jpeg
END:VEVENT
BEGIN:VEVENT
DTSTART;VALUE=DATE:20221031
DTEND;VALUE=DATE:20221101
DTSTAMP:20260423T162828
CREATED:20221102T171620Z
LAST-MODIFIED:20221213T185101Z
UID:14900-1667174400-1667260799@www.digboicollege.edu.in
SUMMARY:Observation of Rastriya Ekta Diwas
DESCRIPTION:  \n31st  OCTOBER 2022: NSS Unit\, Digboi college has observed the “Rastriya Ekta Diwas (National Unity Day)” in association with Margherita Sub-Division (Civil)\, IOCL(AOD)\, Indian Army\, Digboi on 31st October 2022. National Unity Day or Rashtriya Ekta Diwas is celebrated on 31st October every year since 2014 to commemorate the birth anniversary of Sardar Vallabhbhai Patel. This year marks the 147th birth anniversary of Sardar Patel\, a freedom fighter and later a politician who played a major role in the integration of India. The National Unity Day is observed in order to provide an opportunity to re-affirm the inherent strength and resilience of our nation to withstand the actual and potential threats to the unity\, integrity\, and security of our country. Sardar Vallabhbhai Patel was India’s first deputy Prime Minister and is popularly known as the ‘Iron Man of India’. He played a major role in persuading over 500 princely states to accede to the independent Indian Union. He integrated all princely states into the newly independent India\, despite several hurdles. \n\nhttp://www.digboicollege.edu.in/wp-content/uploads/2022/11/WhatsApp-Video-2022-10-31-at-6.46.36-PM.mp4\nDigboi College has organised a “Run for Unity” program of 7 km in connection with National Unity Day. A total of 140 NSS Volunteers were present at the occasion. The NSS programme Officers of the institution viz. R. R. Tariang\, Dr. K. Haloi\, and Dr. N. Chamuah were also present. The program started with the inauguration speech by Mr. Palash Rajkumar Ahom\, SDO (Civil)\, Margherita Block\, followed by an oath-taking ceremony led by Indian Army Commandant\, Digboi. The translation of the oath is as follows: \nI solemnly pledge that I dedicate myself to preserving the unity\, integrity\, and security of the nation and also strive hard to spread this message among my fellow countrymen. I take this pledge in the spirit of the unification of my country which was made possible by the vision and actions of Sardar Vallabhbhai Patel. I also solemnly resolve to make my own contribution to ensure the internal security of my country. \n   \nজয়তু ডিগবৈ মহাবিদ্যালয়\, জয় আই অসম\, জয় হিন্দ |
URL:https://www.digboicollege.edu.in/event/observation-of-rastriya-ekta-diwas/
LOCATION:Digboi College\, Digboi College\, Digboi\, Assam\, 786171\, India
CATEGORIES:CampusEvent,NSSEvent
ATTACH;FMTTYPE=image/jpeg:https://www.digboicollege.edu.in/wp-content/uploads/2022/11/WhatsApp-Image-2022-10-31-at-6.46.31-PM.jpeg
END:VEVENT
END:VCALENDAR