BEGIN:VCALENDAR
VERSION:2.0
PRODID:-//Digboi College - ECPv6.10.1.1//NONSGML v1.0//EN
CALSCALE:GREGORIAN
METHOD:PUBLISH
X-WR-CALNAME:Digboi College
X-ORIGINAL-URL:https://www.digboicollege.edu.in
X-WR-CALDESC:Events for Digboi College
REFRESH-INTERVAL;VALUE=DURATION:PT1H
X-Robots-Tag:noindex
X-PUBLISHED-TTL:PT1H
BEGIN:VTIMEZONE
TZID:UTC
BEGIN:STANDARD
TZOFFSETFROM:+0000
TZOFFSETTO:+0000
TZNAME:UTC
DTSTART:20210101T000000
END:STANDARD
END:VTIMEZONE
BEGIN:VEVENT
DTSTART;VALUE=DATE:20210501
DTEND;VALUE=DATE:20210502
DTSTAMP:20260422T175353
CREATED:20220809T093553Z
LAST-MODIFIED:20220809T093553Z
UID:12209-1619827200-1619913599@www.digboicollege.edu.in
SUMMARY:Digboi College NewsLetter 2021
DESCRIPTION:10th Issue Newsletter 2021\n\nClick Here to View the Newsletter
URL:https://www.digboicollege.edu.in/event/digboi-college-newsletter-2021/
CATEGORIES:Newsletter
END:VEVENT
END:VCALENDAR