BEGIN:VCALENDAR
VERSION:2.0
PRODID:-//Digboi College - ECPv6.10.1.1//NONSGML v1.0//EN
CALSCALE:GREGORIAN
METHOD:PUBLISH
X-WR-CALNAME:Digboi College
X-ORIGINAL-URL:https://www.digboicollege.edu.in
X-WR-CALDESC:Events for Digboi College
REFRESH-INTERVAL;VALUE=DURATION:PT1H
X-Robots-Tag:noindex
X-PUBLISHED-TTL:PT1H
BEGIN:VTIMEZONE
TZID:Asia/Kolkata
BEGIN:STANDARD
TZOFFSETFROM:+0530
TZOFFSETTO:+0530
TZNAME:IST
DTSTART:20240101T000000
END:STANDARD
END:VTIMEZONE
BEGIN:VEVENT
DTSTART;TZID=Asia/Kolkata:20240318T110000
DTEND;TZID=Asia/Kolkata:20240318T140000
DTSTAMP:20260424T233232
CREATED:20240328T040749Z
LAST-MODIFIED:20240328T040922Z
UID:17956-1710759600-1710770400@www.digboicollege.edu.in
SUMMARY:Workshop on 3D printing: Resource Person- Prof. Mamta Juneja\, Punjab University
DESCRIPTION:18th March 2024: \nA one day workshop on 3-D printing was organized jointly by the Entrepreneurship Development Cell\, IQAC\, Digboi College Career Counseling and Placement cell\, Department of Commerce & NEC under the PMdeviNE scheme on 18-03-2024 at the Seminar hall. A total of 55 participants from Commerce and Science belonging to 2nd\, 4th and 6th semester participated in the said workshop. The program started with the Principal Dr. Dip Saikia felicitating the two resource persons from Amtron. Prof.Mamta Juneja\, Department of Computer Science and Engineering\, Punjab University acted as resource person for the program on behalf of Amtron. She explained all the applications of 3- D printing and the avenues related to the field highlighting the entrepreneurial prospects for the youths in the near future. Mr. Nayan Deka\, Amtron Guwahati explained the various aspects of the upcoming field and the government initiatives for employment in this field. Both the resource persons address the queries of the students in the interaction following their sessions. \n    \nজয়তু ডিগবৈ মহাবিদ্যালয়\, জয় আই অসম\, জয় হিন্দ |
URL:https://www.digboicollege.edu.in/event/workshop-on-3d-printing-resource-person-prof-mamta-juneja-punjab-university/
LOCATION:Seminar Hall\, Digboi College
CATEGORIES:CampusEvent,centre for performing arts,IAQC
ATTACH;FMTTYPE=image/jpeg:https://www.digboicollege.edu.in/wp-content/uploads/2024/03/WhatsApp-Image-2024-03-21-at-11.51.46-AM.jpeg
END:VEVENT
END:VCALENDAR