BEGIN:VCALENDAR
VERSION:2.0
PRODID:-//Digboi College - ECPv6.10.1.1//NONSGML v1.0//EN
CALSCALE:GREGORIAN
METHOD:PUBLISH
X-ORIGINAL-URL:https://www.digboicollege.edu.in
X-WR-CALDESC:Events for Digboi College
REFRESH-INTERVAL;VALUE=DURATION:PT1H
X-Robots-Tag:noindex
X-PUBLISHED-TTL:PT1H
BEGIN:VTIMEZONE
TZID:Asia/Kolkata
BEGIN:STANDARD
TZOFFSETFROM:+0530
TZOFFSETTO:+0530
TZNAME:IST
DTSTART:20230101T000000
END:STANDARD
END:VTIMEZONE
BEGIN:VEVENT
DTSTART;VALUE=DATE:20230418
DTEND;VALUE=DATE:20230420
DTSTAMP:20260423T095039
CREATED:20240206T172932Z
LAST-MODIFIED:20240206T173243Z
UID:17652-1681776000-1681948799@www.digboicollege.edu.in
SUMMARY:Workshop on Leadership Development & Motivation
DESCRIPTION:19th April 2023:  A workshop on “Leadership Development & Motivation” for NCC cadets of Digboi College is organised by 26 Assam BN NCC NE Region in association with Digboi BN Indian Army and NCC Unit Digboi College on 18th & 19th April 2023 in Digboi College Auditorium. A total of 136 students participated in the workshop. \nMajor General Gagandeep\, Addl DG NCC NE Region graced the occasion as the chief guest in the event. He enlightened the cadets on the need of developing self motivation to act as a leader. \nEarlier Dr. Dip Saikia\, Principal of Digboi College delivered a welcome speech to welcome the dignitaries to the College as well as the cadets to the workshop specially organized for them. NCC officer Dr. Kanchan Konwar anchored the proceedings of the workshop. \nজয়তু ডিগবৈ মহাবিদ্যালয়\, জয় আই অসম\, জয় হিন্দ |
URL:https://www.digboicollege.edu.in/event/leadership-development-motivation/
LOCATION:Auditorium\, Digboi College
CATEGORIES:CampusEvent,IAQC,NSSEvent
ATTACH;FMTTYPE=image/jpeg:https://www.digboicollege.edu.in/wp-content/uploads/2024/02/leadership-ncc.jpg
END:VEVENT
END:VCALENDAR