BEGIN:VCALENDAR
VERSION:2.0
PRODID:-//Digboi College - ECPv6.10.1.1//NONSGML v1.0//EN
CALSCALE:GREGORIAN
METHOD:PUBLISH
X-WR-CALNAME:Digboi College
X-ORIGINAL-URL:https://www.digboicollege.edu.in
X-WR-CALDESC:Events for Digboi College
REFRESH-INTERVAL;VALUE=DURATION:PT1H
X-Robots-Tag:noindex
X-PUBLISHED-TTL:PT1H
BEGIN:VTIMEZONE
TZID:Asia/Kolkata
BEGIN:STANDARD
TZOFFSETFROM:+0530
TZOFFSETTO:+0530
TZNAME:IST
DTSTART:20230101T000000
END:STANDARD
END:VTIMEZONE
BEGIN:VEVENT
DTSTART;TZID=Asia/Kolkata:20230408T110000
DTEND;TZID=Asia/Kolkata:20230408T130000
DTSTAMP:20260423T081703
CREATED:20240206T174304Z
LAST-MODIFIED:20240206T174304Z
UID:17659-1680951600-1680958800@www.digboicollege.edu.in
SUMMARY:Workshop on Generative Adversarial Network
DESCRIPTION:8th April 2023:  The Department of Computer Science\, Digboi College organized a workshop on the topic of Generative Adversarial Network (GAN) in collaboration with IQAC\, Digboi College on 8th of April\, 2023. \nThe session was anchored by departmental faculty Mr. Poban Kamar and the objectives were stated by Mr. Prasanta Prasad Singha\, HoD\, Dept. of Computer Science\, Digboi College. Principal of the college Dr. Dip Saikia delivered the welcome address. The session was graced by Vice-principal Dr. Arun Ch. Dutta and IQAC coordinator Dr. Jayanta Handique. \n   \n  \n  \n  \n  \n  \n  \n  \nDr Sadiq Hussain\, System Administrator\, Dibrugarh University acted as the chief resource person of the session. He presented a very interactive lecture on the stated topic. A total of 57 students from all the streams of Arts\, Science\, and Commerce participated in this workshop. \nজয়তু ডিগবৈ মহাবিদ্যালয়\, জয় আই অসম\, জয় হিন্দ |
URL:https://www.digboicollege.edu.in/event/generative-adversarial-network/
LOCATION:Conference Hall\, Digboi College\, Digboi College\, Digboi\, Assam\, 786171\, India
CATEGORIES:CampusEvent,IAQC,NSSEvent
ATTACH;FMTTYPE=image/jpeg:https://www.digboicollege.edu.in/wp-content/uploads/2024/02/340322329_1318677435660065_1462662319473659318_n.jpg
END:VEVENT
END:VCALENDAR