BEGIN:VCALENDAR
VERSION:2.0
PRODID:-//Digboi College - ECPv6.10.1.1//NONSGML v1.0//EN
CALSCALE:GREGORIAN
METHOD:PUBLISH
X-WR-CALNAME:Digboi College
X-ORIGINAL-URL:https://www.digboicollege.edu.in
X-WR-CALDESC:Events for Digboi College
REFRESH-INTERVAL;VALUE=DURATION:PT1H
X-Robots-Tag:noindex
X-PUBLISHED-TTL:PT1H
BEGIN:VTIMEZONE
TZID:UTC
BEGIN:STANDARD
TZOFFSETFROM:+0000
TZOFFSETTO:+0000
TZNAME:UTC
DTSTART:20230101T000000
END:STANDARD
END:VTIMEZONE
BEGIN:VEVENT
DTSTART;TZID=UTC:20230217T060000
DTEND;TZID=UTC:20230220T080000
DTSTAMP:20260423T114714
CREATED:20230219T034938Z
LAST-MODIFIED:20230219T040205Z
UID:16123-1676613600-1676880000@www.digboicollege.edu.in
SUMMARY:Great Backyard Bird Count : Experts from e-Bird India & Bird Count India
DESCRIPTION:  \nDepartment of Zoology conducts Great Backyard Bird Count \n17th February 2023:  Department of Zoology\, Digboi College conducted bird counts at their campus in collaboration with eBird India and Bird Count India in the morning hours of 17/02/2023. Mr. Rajib Rudra Tariang\, Head\, Dept. of Zoology\, takes the initiative to conduct the 4 days campus bird count in the morning along with the students of Digboi College from 17th to 20th February 2023. On the day\, about 40 species of birds were sighted\, with 92 individuals in the entire survey. Dr. Pragnesh Patel of Dadra and Naga Haveli\, a famous birder of India who is also a professional medical doctor\, was the key resource person for the students who delivered a fruitful lecture. Mr. Rajib Rudra Tariang guided the students during the bird count and the team of experts. Mr. Saswat Mishra\, another birder of Bird Count India residing at Dadar and Naga Haveli\, who is an Electrical Engineer and an M. Tech. Student have also guided the students in the field. Further\, Mr. Pallav Pranjol Sarma of Guwahati\, Mr. Debojit Phukan of Tinsukia\, and Mr. Aovick Das Gutpa of Kaziranga were also present. Some of the unique birds sighted and photographed are the Barred Cuckoo Dove\, Short-Billed Minivet\, Longtailed Monivet\, Vernal Hanging Parrot\, White-throated Fantail\, Hair-crested Drongo\, Collared Treepie\, Cinereous Tit\, Pygmy Cupwing\, Pin-striped Tit Babler\, Verditer Flycatcher\, Ruby-cheeked Sunbird\, Streaked Spiderhunter\, etc. \n  \nজয়তু ডিগবৈ মহাবিদ্যালয়\, জয় আই অসম\, জয় হিন্দ |
URL:https://www.digboicollege.edu.in/event/great-backyard-bird-count/
LOCATION:Digboi College\, Digboi College\, Digboi\, Assam\, 786171\, India
CATEGORIES:CampusEvent,IAQC
ATTACH;FMTTYPE=image/jpeg:https://www.digboicollege.edu.in/wp-content/uploads/2023/02/WhatsApp-Image-2023-02-19-at-9.10.11-AM.jpeg
END:VEVENT
BEGIN:VEVENT
DTSTART;VALUE=DATE:20230220
DTEND;VALUE=DATE:20230221
DTSTAMP:20260423T114714
CREATED:20230320T070041Z
LAST-MODIFIED:20230321T170259Z
UID:16342-1676851200-1676937599@www.digboicollege.edu.in
SUMMARY:Chinta Bichitra : A collection of articles based on Assamese Literature
DESCRIPTION:Chinta Bichitra : A collection of articles based on Assamese Literature\nFirst Edition: February 2023 \n\nClick Here to View the Magazine
URL:https://www.digboicollege.edu.in/event/chinta-bichitra-a-collection-of-articles-based-on-assamese-literature/
LOCATION:Digboi College\, Digboi College\, Digboi\, Assam\, 786171\, India
CATEGORIES:Publications
END:VEVENT
BEGIN:VEVENT
DTSTART;TZID=UTC:20230220T133000
DTEND;TZID=UTC:20230220T143000
DTSTAMP:20260423T114714
CREATED:20230219T042923Z
LAST-MODIFIED:20230309T112456Z
UID:16146-1676899800-1676903400@www.digboicollege.edu.in
SUMMARY:Student Interaction with emienet writer Mayur Bora on 20/02/2023
DESCRIPTION:20th February 2023: The Career Counseling and Placement Cell in association with IQAC\, Digboi College\, organised a student interaction programme with Eminent writer\, and speaker\, Mayur Bora on 20/02/2023 (Monday) from 1:30 to 3:30 pm. The programme was designed for the final-year UG and PG students who want to appear in various National and State level competitive examinations. The session was presided over by Dr. Dip Saikia\, Principal\, Digboi College. More than 100 students participated in the session. The resource person discussed the various opportunities and challenges along with the road map to success in the competitive examinations\, especially in administrative services. \n        \nThe session was very much informative and fruitful for the students. Dr. Rashmi Patowary\, Convenor\, Career Counselling and Placement Cell\, Digboi College offered a vote of thanks. \nজয়তু ডিগবৈ মহাবিদ্যালয়\, জয় আই অসম\, জয় হিন্দ |
URL:https://www.digboicollege.edu.in/event/mayur-bora-2023/
LOCATION:Conference Hall\, Digboi College\, Digboi College\, Digboi\, Assam\, 786171\, India
CATEGORIES:CampusEvent
ATTACH;FMTTYPE=image/jpeg:https://www.digboicollege.edu.in/wp-content/uploads/2023/02/WhatsApp-Image-2023-02-21-at-6.11.38-AM.jpeg
END:VEVENT
END:VCALENDAR