BEGIN:VCALENDAR
VERSION:2.0
PRODID:-//Digboi College - ECPv6.10.1.1//NONSGML v1.0//EN
CALSCALE:GREGORIAN
METHOD:PUBLISH
X-WR-CALNAME:Digboi College
X-ORIGINAL-URL:https://www.digboicollege.edu.in
X-WR-CALDESC:Events for Digboi College
REFRESH-INTERVAL;VALUE=DURATION:PT1H
X-Robots-Tag:noindex
X-PUBLISHED-TTL:PT1H
BEGIN:VTIMEZONE
TZID:UTC
BEGIN:STANDARD
TZOFFSETFROM:+0000
TZOFFSETTO:+0000
TZNAME:UTC
DTSTART:20230101T000000
END:STANDARD
END:VTIMEZONE
BEGIN:VEVENT
DTSTART;TZID=UTC:20230211T090000
DTEND;TZID=UTC:20230211T113000
DTSTAMP:20260423T114759
CREATED:20230217T140409Z
LAST-MODIFIED:20230217T150113Z
UID:16087-1676106000-1676115000@www.digboicollege.edu.in
SUMMARY:Interaction with Scientists of NASA & Cambridge University
DESCRIPTION:11th February 2023:  The Department of Physics Celebrated the 8th International day of Women and Girls in Science in a befitting manner at the seminar Hall in the presence of students and faculty members. At the outset Gayatri Thapa\, (B.Sc.6th semester Physics Honours) described the significance of the day. This was followed by Debangshee Paul (B.Sc. 6th Semester) giving a comprehensive account of Madam Curie\, the iconic scientist and Nobel Laureate. \n\nAfter this Dr. Rashmi Patowary (H.o.D) gave a presentation on the Indian women Scientists. The program ended on an inspirational note with Dr. Kanchan Konwar describing the importance of encouaging women in science . \n  \n  \nজয়তু ডিগবৈ মহাবিদ্যালয়\, জয় আই অসম\, জয় হিন্দ |
URL:https://www.digboicollege.edu.in/event/interaction-with-nasa-scientist/
LOCATION:Seminar Hall\, Digboi College
CATEGORIES:CampusEvent,IAQC,PhysicsEvent
ATTACH;FMTTYPE=image/jpeg:https://www.digboicollege.edu.in/wp-content/uploads/2023/02/womenday2023.jpg
END:VEVENT
END:VCALENDAR