BEGIN:VCALENDAR
VERSION:2.0
PRODID:-//Digboi College - ECPv6.10.1.1//NONSGML v1.0//EN
CALSCALE:GREGORIAN
METHOD:PUBLISH
X-WR-CALNAME:Digboi College
X-ORIGINAL-URL:https://www.digboicollege.edu.in
X-WR-CALDESC:Events for Digboi College
REFRESH-INTERVAL;VALUE=DURATION:PT1H
X-Robots-Tag:noindex
X-PUBLISHED-TTL:PT1H
BEGIN:VTIMEZONE
TZID:UTC
BEGIN:STANDARD
TZOFFSETFROM:+0000
TZOFFSETTO:+0000
TZNAME:UTC
DTSTART:20230101T000000
END:STANDARD
END:VTIMEZONE
BEGIN:VEVENT
DTSTART;TZID=UTC:20230123T080000
DTEND;TZID=UTC:20230124T170000
DTSTAMP:20260423T131544
CREATED:20230219T041841Z
LAST-MODIFIED:20230219T042118Z
UID:16141-1674460800-1674579600@www.digboicollege.edu.in
SUMMARY:NAAC Peer Team Visit : 2023
DESCRIPTION:24th January 2023: NAAC Peer Team Visited Digboi College from 23/01/2023 to 24/01/2023. \nRead More
URL:https://www.digboicollege.edu.in/event/naac-peer-team-visit-2023/
LOCATION:Digboi College\, Digboi College\, Digboi\, Assam\, 786171\, India
CATEGORIES:CampusEvent
ATTACH;FMTTYPE=image/jpeg:https://www.digboicollege.edu.in/wp-content/uploads/2023/01/NAAC2023_1.jpg
END:VEVENT
END:VCALENDAR